BEGIN:VCALENDAR
VERSION:2.0
PRODID:icalendar-ruby
CALSCALE:GREGORIAN
METHOD:PUBLISH
BEGIN:VEVENT
DTSTAMP:20260420T232634Z
UID:13-535568@ecngchurch.com
DTSTART:20260915T020000Z
DTEND:20260915T030000Z
CLASS:PUBLIC
CREATED:20260420T153245
DESCRIPTION:
LAST-MODIFIED:20260420T153245
LOCATION:607 Desert Garden Dr. El Centro CA 92243
SUMMARY:Discipleship
URL;VALUE=URI:https://ecngchurch.com/events/discipleship/2026-09-14
ATTACH;FILENAME=4.jpg;FMTTYPE=image/jpeg:https://dq5pwpg1q8ru0.cloudfront.n
 et/2025/01/28/18/35/56/91c4809a-66f5-4a0f-bf9f-e44dc7845261/4.jpg
END:VEVENT
END:VCALENDAR
